BEGIN:VCALENDAR
VERSION:2.0
PRODID:-//Centre d&#039;Enseignement des Musiques Actuelles - ECPv6.11.2.1//NONSGML v1.0//EN
CALSCALE:GREGORIAN
METHOD:PUBLISH
X-ORIGINAL-URL:https://cema-aubenas.com
X-WR-CALDESC:Évènements pour Centre d&#039;Enseignement des Musiques Actuelles
REFRESH-INTERVAL;VALUE=DURATION:PT1H
X-Robots-Tag:noindex
X-PUBLISHED-TTL:PT1H
BEGIN:VTIMEZONE
TZID:Europe/Paris
BEGIN:DAYLIGHT
TZOFFSETFROM:+0100
TZOFFSETTO:+0200
TZNAME:CEST
DTSTART:20240331T010000
END:DAYLIGHT
BEGIN:STANDARD
TZOFFSETFROM:+0200
TZOFFSETTO:+0100
TZNAME:CET
DTSTART:20241027T010000
END:STANDARD
END:VTIMEZONE
BEGIN:VEVENT
DTSTART;TZID=Europe/Paris:20241020T170000
DTEND;TZID=Europe/Paris:20241020T183000
DTSTAMP:20260424T192117
CREATED:20240911T214950Z
LAST-MODIFIED:20250217T103215Z
UID:1094-1729443600-1729449000@cema-aubenas.com
SUMMARY:"Constellations de mélodies françaises" avec l'orchestre du CEMA et l'EITT
DESCRIPTION:Constellation de mélodies françaises\n\nInvitations aux Ensembles Instrumentaux Aubenas & Tournon-Tain\n\n\n\n\nLe bénéfice du concert sera reversé au profit de la restauration des peintures de la Basilique Notre-Dame-de-Bon-Secours de Lablachère.\nCes deux orchestres du territoire se prêtent au jeu de l’universalité et de l’intergénérationnel pour ce concert au profit de la restauration des peintures de la basilique de Lablachère. \nDirigés par les membres de Fabria\, artistes du territoire en résidence 2022-2026\, les ensembles instrumentaux du CEMA d’Aubenas (direction Estelle Harbulot) et de Tain-Tournon (direction Lise Pechenart) nous proposeront une constellation de mélodies françaises : Fauré\, Saint-Saëns\, Debussy\, Chabrier\, Delibes ou encore Ravel seront à l’honneur. \nCes musiques de la fin XIXe et début XXe siècle\, extrêmement riches\, variées et pleines de couleurs sont autant d’émotions que les deux orchestres auront l’immense plaisir de vous proposer. \n\n\n\nAvec le soutien de Communauté de Communes du Pays Beaume-Drobie ; en partenariat avec Centre d’Enseignement des Musiques Actuelles d’Aubenas\, l’Ensemble Instrumental Tain-Tournon\, la mairie de Lablachère et la paroisse Sainte Thérèse des Cévennes.
URL:https://cema-aubenas.com/agenda/constellations-de-melodies-francaises-avec-lorchestre-du-cema-et-leitt/
LOCATION:Lablachère
CATEGORIES:Concerts et auditions
ATTACH;FMTTYPE=image/jpeg:https://cema-aubenas.com/wp-content/uploads/2024/09/constellation-de-melodies.jpg
END:VEVENT
END:VCALENDAR