BEGIN:VCALENDAR
VERSION:2.0
PRODID:-//Centre d&#039;Enseignement des Musiques Actuelles - ECPv6.11.2.1//NONSGML v1.0//EN
CALSCALE:GREGORIAN
METHOD:PUBLISH
X-WR-CALNAME:Centre d&#039;Enseignement des Musiques Actuelles
X-ORIGINAL-URL:https://cema-aubenas.com
X-WR-CALDESC:Évènements pour Centre d&#039;Enseignement des Musiques Actuelles
REFRESH-INTERVAL;VALUE=DURATION:PT1H
X-Robots-Tag:noindex
X-PUBLISHED-TTL:PT1H
BEGIN:VTIMEZONE
TZID:Europe/Paris
BEGIN:DAYLIGHT
TZOFFSETFROM:+0100
TZOFFSETTO:+0200
TZNAME:CEST
DTSTART:20230326T010000
END:DAYLIGHT
BEGIN:STANDARD
TZOFFSETFROM:+0200
TZOFFSETTO:+0100
TZNAME:CET
DTSTART:20231029T010000
END:STANDARD
END:VTIMEZONE
BEGIN:VEVENT
DTSTART;TZID=Europe/Paris:20231114T193000
DTEND;TZID=Europe/Paris:20231114T203000
DTSTAMP:20260425T141612
CREATED:20231121T231341Z
LAST-MODIFIED:20250217T103216Z
UID:717-1699990200-1699993800@cema-aubenas.com
SUMMARY:Audition d'Automne
DESCRIPTION:
URL:https://cema-aubenas.com/agenda/audition-dautomne/
LOCATION:CEMA
CATEGORIES:Concerts et auditions
END:VEVENT
END:VCALENDAR