BEGIN:VCALENDAR
VERSION:2.0
PRODID:-//Centre d&#039;Enseignement des Musiques Actuelles - ECPv6.11.2.1//NONSGML v1.0//EN
CALSCALE:GREGORIAN
METHOD:PUBLISH
X-ORIGINAL-URL:https://cema-aubenas.com
X-WR-CALDESC:Évènements pour Centre d&#039;Enseignement des Musiques Actuelles
REFRESH-INTERVAL;VALUE=DURATION:PT1H
X-Robots-Tag:noindex
X-PUBLISHED-TTL:PT1H
BEGIN:VTIMEZONE
TZID:Europe/Paris
BEGIN:DAYLIGHT
TZOFFSETFROM:+0100
TZOFFSETTO:+0200
TZNAME:CEST
DTSTART:20240331T010000
END:DAYLIGHT
BEGIN:STANDARD
TZOFFSETFROM:+0200
TZOFFSETTO:+0100
TZNAME:CET
DTSTART:20241027T010000
END:STANDARD
END:VTIMEZONE
BEGIN:VEVENT
DTSTART;TZID=Europe/Paris:20240618T183000
DTEND;TZID=Europe/Paris:20240618T223000
DTSTAMP:20260425T031157
CREATED:20231121T230432Z
LAST-MODIFIED:20250217T103216Z
UID:706-1718735400-1718749800@cema-aubenas.com
SUMMARY:Concert de fin d'année
DESCRIPTION:
URL:https://cema-aubenas.com/agenda/concert-avec-lorchestre-dauvergne/
LOCATION:Centre Culturel de Saint Privat\, St Privat
CATEGORIES:Concerts et auditions
END:VEVENT
END:VCALENDAR