BEGIN:VCALENDAR
VERSION:2.0
PRODID:-//Centre d&#039;Enseignement des Musiques Actuelles - ECPv6.11.2.1//NONSGML v1.0//EN
CALSCALE:GREGORIAN
METHOD:PUBLISH
X-WR-CALNAME:Centre d&#039;Enseignement des Musiques Actuelles
X-ORIGINAL-URL:https://cema-aubenas.com
X-WR-CALDESC:Évènements pour Centre d&#039;Enseignement des Musiques Actuelles
REFRESH-INTERVAL;VALUE=DURATION:PT1H
X-Robots-Tag:noindex
X-PUBLISHED-TTL:PT1H
BEGIN:VTIMEZONE
TZID:Europe/Paris
BEGIN:DAYLIGHT
TZOFFSETFROM:+0100
TZOFFSETTO:+0200
TZNAME:CEST
DTSTART:20250330T010000
END:DAYLIGHT
BEGIN:STANDARD
TZOFFSETFROM:+0200
TZOFFSETTO:+0100
TZNAME:CET
DTSTART:20251026T010000
END:STANDARD
END:VTIMEZONE
BEGIN:VEVENT
DTSTART;TZID=Europe/Paris:20250520T200000
DTEND;TZID=Europe/Paris:20250520T200000
DTSTAMP:20260424T105307
CREATED:20250206T201241Z
LAST-MODIFIED:20250217T103050Z
UID:1203-1747771200-1747771200@cema-aubenas.com
SUMMARY:Concert à l'église d'Aubenas
DESCRIPTION:La NEMA organise chaque année un concert à l’église St Laurent à Aubenas\, auquel est invité le CEMA. L’orchestre du CEMA\, ainsi que la polyphonie et sans doute quelques groupes de musique de chambre vont pouvoir profiter de ces merveilleuses conditions dans une très belle acoustique.
URL:https://cema-aubenas.com/agenda/concert-a-leglise-daubenas/
LOCATION:Eglise d’Aubenas
CATEGORIES:Concerts et auditions
ATTACH;FMTTYPE=image/jpeg:https://cema-aubenas.com/wp-content/uploads/2024/06/WhatsApp-Image-2024-06-17-a-19.38.36_8d67df4a.jpg
END:VEVENT
END:VCALENDAR