BEGIN:VCALENDAR
VERSION:2.0
PRODID:-//Centre d&#039;Enseignement des Musiques Actuelles - ECPv6.11.2.1//NONSGML v1.0//EN
CALSCALE:GREGORIAN
METHOD:PUBLISH
X-WR-CALNAME:Centre d&#039;Enseignement des Musiques Actuelles
X-ORIGINAL-URL:https://cema-aubenas.com
X-WR-CALDESC:Évènements pour Centre d&#039;Enseignement des Musiques Actuelles
REFRESH-INTERVAL;VALUE=DURATION:PT1H
X-Robots-Tag:noindex
X-PUBLISHED-TTL:PT1H
BEGIN:VTIMEZONE
TZID:Europe/Paris
BEGIN:DAYLIGHT
TZOFFSETFROM:+0100
TZOFFSETTO:+0200
TZNAME:CEST
DTSTART:20250330T010000
END:DAYLIGHT
BEGIN:STANDARD
TZOFFSETFROM:+0200
TZOFFSETTO:+0100
TZNAME:CET
DTSTART:20251026T010000
END:STANDARD
END:VTIMEZONE
BEGIN:VEVENT
DTSTART;TZID=Europe/Paris:20250615T170000
DTEND;TZID=Europe/Paris:20250615T183000
DTSTAMP:20260424T085039
CREATED:20250206T201537Z
LAST-MODIFIED:20250217T103050Z
UID:1205-1750006800-1750012200@cema-aubenas.com
SUMMARY:Opéra "Rien que des enfants"
DESCRIPTION:Organisé par Labeaume en musiques\, l’opéra « Rien que des enfants » est un énorme projet. \nLa Schola Cantharel\, 2 choeurs de collégiens\, l’Ensemble Fabria ainsi que 20 élèves du CEMA seront sur la magnifique scène du théâtre Les Quinconces de Vals les Bains. \nRéservez rapidement vos places\, car ce spectacle sera très vite complet. \nBilletterie
URL:https://cema-aubenas.com/agenda/opera-rien-que-des-enfants/
LOCATION:Théâtre Les Quinconces\, Vals les Bains
CATEGORIES:Concerts et auditions
ATTACH;FMTTYPE=image/jpeg:https://cema-aubenas.com/wp-content/uploads/2025/02/rienquedesenfants.jpg
END:VEVENT
END:VCALENDAR