BEGIN:VCALENDAR
VERSION:2.0
PRODID:-//Centre d&#039;Enseignement des Musiques Actuelles - ECPv6.11.2.1//NONSGML v1.0//EN
CALSCALE:GREGORIAN
METHOD:PUBLISH
X-WR-CALNAME:Centre d&#039;Enseignement des Musiques Actuelles
X-ORIGINAL-URL:https://cema-aubenas.com
X-WR-CALDESC:Évènements pour Centre d&#039;Enseignement des Musiques Actuelles
REFRESH-INTERVAL;VALUE=DURATION:PT1H
X-Robots-Tag:noindex
X-PUBLISHED-TTL:PT1H
BEGIN:VTIMEZONE
TZID:Europe/Paris
BEGIN:DAYLIGHT
TZOFFSETFROM:+0100
TZOFFSETTO:+0200
TZNAME:CEST
DTSTART:20250330T010000
END:DAYLIGHT
BEGIN:STANDARD
TZOFFSETFROM:+0200
TZOFFSETTO:+0100
TZNAME:CET
DTSTART:20251026T010000
END:STANDARD
END:VTIMEZONE
BEGIN:VEVENT
DTSTART;TZID=Europe/Paris:20250617T180000
DTEND;TZID=Europe/Paris:20250617T220000
DTSTAMP:20260424T084333
CREATED:20250206T202205Z
LAST-MODIFIED:20250610T133705Z
UID:1208-1750183200-1750197600@cema-aubenas.com
SUMMARY:Concert de fin d'année du CEMA
DESCRIPTION:Comme chaque année\, les élèves vous présenteront leur travail de l’année. \nCette soirée est sous le signe de la musique collective : des groupes du duo à l’orchestre se succéderont dans des styles variés pour le plus grand bonheur du public présent. \n1ère partie : 18h à 19h30 \nENTRACTE avec buvette et collation offerte par le CEMA – Vous pouvez amener des gâteaux ! \n2ème partie : 20h à 21h30 \n  \n  \n 
URL:https://cema-aubenas.com/agenda/concert-de-fin-dannee-du-cema/
LOCATION:Centre Culturel de Saint Privat\, St Privat
CATEGORIES:Concerts et auditions
ATTACH;FMTTYPE=image/jpeg:https://cema-aubenas.com/wp-content/uploads/2024/06/IMG-20240619-WA0007.jpg
END:VEVENT
END:VCALENDAR